BEGIN:VCALENDAR
VERSION:2.0
PRODID:-//ALECES INSTITUTO DE PSICOTERAPIA DEL TRAUMA SL - ECPv6.8.0//NONSGML v1.0//EN
CALSCALE:GREGORIAN
METHOD:PUBLISH
X-ORIGINAL-URL:https://vieja.aleces.com
X-WR-CALDESC:Eventos para ALECES INSTITUTO DE PSICOTERAPIA DEL TRAUMA SL
REFRESH-INTERVAL;VALUE=DURATION:PT1H
X-Robots-Tag:noindex
X-PUBLISHED-TTL:PT1H
BEGIN:VTIMEZONE
TZID:UTC
BEGIN:STANDARD
TZOFFSETFROM:+0000
TZOFFSETTO:+0000
TZNAME:UTC
DTSTART:20220101T000000
END:STANDARD
END:VTIMEZONE
BEGIN:VEVENT
DTSTART;VALUE=DATE:20220603
DTEND;VALUE=DATE:20220606
DTSTAMP:20260422T192023
CREATED:20210120T170349Z
LAST-MODIFIED:20220518T092720Z
UID:8181-1654214400-1654473599@vieja.aleces.com
SUMMARY:Master Class Brainspotting con David Grand\, del 3 al 5 de Junio 2022 (por videoconferencia Online)
DESCRIPTION:Pagar 645 €Pagar repetidores 320 €
URL:https://vieja.aleces.com/event/brainspotting-fase-iii-con-david-grand-del-21-al-23-de-mayo-2021-por-videoconferencia-online/
LOCATION:Online\, España
ATTACH;FMTTYPE=image/jpeg:https://vieja.aleces.com/wp-content/uploads/2019/07/articulo-19.jpg
END:VEVENT
END:VCALENDAR